BEGIN:VCALENDAR
VERSION:2.0
PRODID:-//wp-events-plugin.com//7.2.2.1//EN
TZID:Europe/Berlin
X-WR-TIMEZONE:Europe/Berlin
BEGIN:VEVENT
UID:2@aportal.spvg-moehnesee.de
DTSTART;TZID=Europe/Berlin:20260522T000000
DTEND;TZID=Europe/Berlin:20260525T000000
DTSTAMP:20260413T175224Z
URL:https://aportal.spvg-moehnesee.de/events/c-jugend-wertungsturnier/
SUMMARY:Pfingstturnier 2026 - F-Jugend bis C-Jugend - Mit Übernachtung
DESCRIPTION:\n  \n    \n\n      \n        Willkommen zur Ticket-Buchungssei
 te\n        Jugendpfingstturnier der Sportvereinigung Möhnesee\n      \n\
 n      \n        Willkommen zur Ticket-Buchungsseite für das Jugendpfings
 tturnier der Sportvereinigung Möhnesee. Ihr könnt hier eure Startplätze
 \, Mittagessen und Abendessen reservieren. Das Frühstück ist bei jeder 
 Übernachtung inkludiert.\n\n        Warme Mahlzeit (Buffet aus vegetarisc
 hem und Fleisch-Menü mit Getränken — Wasser\, Säfte) berechnen wir 8\
 ,50 € pro Person für Mittag- und Abendessen.\n\n        Für den Zeltpl
 atz inklusive Frühstück mit Getränken (Wasser\, Kakao\, Milch\, Tee\, K
 affee und Säfte) berechnen wir 13 € pro Person und Nacht. Zusätzlich w
 ird pro Person und Tag eine Infrastruktur-Pauschale von 7 € erhoben. Dad
 urch ergibt sich der Übernachtungspreis von 20\,00 € pro Person.\n\n\n 
      \n\n    \n  \n\n\n\n  \n    \n\n      \n        Zeitplan\n        Jug
 endpfingstturnier der Sportvereinigung Möhnesee\n      \n\n      \n\n    
     Freitag\, 22. Mai 2026\n        19:00 Uhr bis 22:00 Uhr: C-Jugend-Vorr
 unde\n\n        Samstag\, 23. Mai 2026\n        09:00 Uhr bis 12:00 Uhr: E
 -Jugend-Vorrunde\n        12:30 Uhr bis 15:00 Uhr: G-Jugend-Einzelturnier\
 n        15:30 Uhr bis 18:45 Uhr: D-Jugend-Vorrunde\n        19:00 Uhr bis
  22:00 Uhr: C-Jugend-Endrunde\n\n        Sonntag\, 24. Mai 2026\n        0
 9:00 Uhr bis 12:15 Uhr: F-Jugend-Einzelturnier\n        12:45 Uhr bis 16:0
 0 Uhr: E-Jugend-Endrunde\n        16:30 Uhr bis 20:45 Uhr: D-Jugend-Endrun
 de\n\n        Die Kleinfeldturniere der C- bis E-Jugendlichen werden mit 6
  Feldspielern und Torwart gespielt.\n\n      \n\n    \n  \n\n
CATEGORIES:Pfingstturnier 2026
END:VEVENT
BEGIN:VTIMEZONE
TZID:Europe/Berlin
X-LIC-LOCATION:Europe/Berlin
BEGIN:DAYLIGHT
DTSTART:20260329T030000
TZOFFSETFROM:+0100
TZOFFSETTO:+0200
TZNAME:CEST
END:DAYLIGHT
END:VTIMEZONE
END:VCALENDAR