BEGIN:VCALENDAR
VERSION:2.0
PRODID:-//wp-events-plugin.com//7.2.2.1//EN
TZID:Europe/Berlin
X-WR-TIMEZONE:Europe/Berlin
BEGIN:VEVENT
UID:3@aportal.spvg-moehnesee.de
DTSTART;TZID=Europe/Berlin:20260523T000000
DTEND;TZID=Europe/Berlin:20260523T000000
DTSTAMP:20260413T175250Z
URL:https://aportal.spvg-moehnesee.de/events/pfingstturnier-2026-g-jugend-
 und-f-jugend/
SUMMARY:Pfingstturnier 2026 - G-Jugend ohne Übernachtung
DESCRIPTION:
CATEGORIES:Pfingstturnier 2026
END:VEVENT
BEGIN:VTIMEZONE
TZID:Europe/Berlin
X-LIC-LOCATION:Europe/Berlin
BEGIN:DAYLIGHT
DTSTART:20260329T030000
TZOFFSETFROM:+0100
TZOFFSETTO:+0200
TZNAME:CEST
END:DAYLIGHT
END:VTIMEZONE
END:VCALENDAR